Package: MetaPhOR Version: 1.8.0 Command: /home/biocbuild/R/R/bin/R CMD build --keep-empty-dirs --no-resave-data MetaPhOR StartedAt: 2025-02-04 00:48:02 -0000 (Tue, 04 Feb 2025) EndedAt: 2025-02-04 01:05:59 -0000 (Tue, 04 Feb 2025) EllapsedTime: 1076.5 seconds RetCode: 0 Status: OK PackageFile: MetaPhOR_1.8.0.tar.gz PackageFileSize: 2.17 MiB