Package: MetaboAnnotation
Version: 1.10.0
Command: rm -rf MetaboAnnotation.buildbin-libdir && mkdir MetaboAnnotation.buildbin-libdir && /Users/biocbuild/BBS/utils/build-universal.sh MetaboAnnotation_1.10.0.tar.gz /Library/Frameworks/R.framework/Resources/bin/R MetaboAnnotation.buildbin-libdir
StartedAt: 2024-11-20 04:35:34 -0500 (Wed, 20 Nov 2024)
EndedAt: 2024-11-20 04:36:36 -0500 (Wed, 20 Nov 2024)
EllapsedTime: 61.8 seconds
RetCode: 0
Status: OK
PackageFile: MetaboAnnotation_1.10.0.tgz
PackageFileSize: 1.747 <A href="http://en.wikipedia.org/wiki/MiB" target="_blank">MiB</A>