Package: MetaboAnnotation Version: 1.10.1 Command: /Library/Frameworks/R.framework/Resources/bin/R CMD build --keep-empty-dirs --no-resave-data MetaboAnnotation StartedAt: 2025-02-03 20:08:17 -0500 (Mon, 03 Feb 2025) EndedAt: 2025-02-03 20:11:51 -0500 (Mon, 03 Feb 2025) EllapsedTime: 214.2 seconds RetCode: 0 Status: OK PackageFile: MetaboAnnotation_1.10.1.tar.gz PackageFileSize: 1.248 MiB