Package: MetaboAnnotation Version: 1.10.1 Command: /Library/Frameworks/R.framework/Resources/bin/R CMD check --install=check:MetaboAnnotation.install-out.txt --library=/Library/Frameworks/R.framework/Resources/library --no-vignettes --timings MetaboAnnotation_1.10.1.tar.gz StartedAt: 2025-02-04 06:01:31 -0500 (Tue, 04 Feb 2025) EndedAt: 2025-02-04 06:12:07 -0500 (Tue, 04 Feb 2025) EllapsedTime: 635.7 seconds RetCode: 0 Status: OK CheckDir: MetaboAnnotation.Rcheck Warnings: 0