Package: MetaboAnnotation Version: 1.10.1 Command: /Library/Frameworks/R.framework/Resources/bin/R CMD INSTALL MetaboAnnotation StartedAt: 2025-02-03 16:41:08 -0500 (Mon, 03 Feb 2025) EndedAt: 2025-02-03 16:42:34 -0500 (Mon, 03 Feb 2025) EllapsedTime: 85.3 seconds RetCode: 0 Status: OK