Package: MetaboAnnotation Version: 1.10.1 Command: chmod a+r MetaboAnnotation -R && F:\biocbuild\bbs-3.20-bioc\R\bin\R.exe CMD build --keep-empty-dirs --no-resave-data MetaboAnnotation StartedAt: 2025-02-03 20:13:05 -0500 (Mon, 03 Feb 2025) EndedAt: 2025-02-03 20:15:35 -0500 (Mon, 03 Feb 2025) EllapsedTime: 149.8 seconds RetCode: 0 Status: OK PackageFile: MetaboAnnotation_1.10.1.tar.gz PackageFileSize: 1.184 MiB