Package: MetaboAnnotation Version: 1.10.1 Command: F:\biocbuild\bbs-3.20-bioc\R\bin\R.exe CMD check --no-multiarch --install=check:MetaboAnnotation.install-out.txt --library=F:\biocbuild\bbs-3.20-bioc\R\library --no-vignettes --timings MetaboAnnotation_1.10.1.tar.gz StartedAt: 2025-02-04 03:30:24 -0500 (Tue, 04 Feb 2025) EndedAt: 2025-02-04 03:36:58 -0500 (Tue, 04 Feb 2025) EllapsedTime: 394.8 seconds RetCode: 0 Status: OK CheckDir: MetaboAnnotation.Rcheck Warnings: 0