Package: MetaboAnnotation Version: 1.10.1 Command: /home/biocbuild/R/R/bin/R CMD check --install=check:MetaboAnnotation.install-out.txt --library=/home/biocbuild/R/R/site-library --no-vignettes --timings MetaboAnnotation_1.10.1.tar.gz StartedAt: 2025-02-18 08:33:06 -0000 (Tue, 18 Feb 2025) EndedAt: 2025-02-18 08:39:51 -0000 (Tue, 18 Feb 2025) EllapsedTime: 405.6 seconds RetCode: 0 Status: OK CheckDir: MetaboAnnotation.Rcheck Warnings: 0