Package: MetaboSignal Version: 1.36.0 Command: /Library/Frameworks/R.framework/Resources/bin/R CMD check --install=check:MetaboSignal.install-out.txt --library=/Library/Frameworks/R.framework/Resources/library --no-vignettes --timings MetaboSignal_1.36.0.tar.gz StartedAt: 2025-02-05 01:04:03 -0500 (Wed, 05 Feb 2025) EndedAt: 2025-02-05 01:11:06 -0500 (Wed, 05 Feb 2025) EllapsedTime: 422.5 seconds RetCode: 0 Status: OK CheckDir: MetaboSignal.Rcheck Warnings: 0