Package: MetaboSignal
Version: 1.36.0
Command: /home/biocbuild/R/R/bin/R CMD build --keep-empty-dirs --no-resave-data MetaboSignal
StartedAt: 2024-11-20 01:56:36 -0000 (Wed, 20 Nov 2024)
EndedAt: 2024-11-20 01:58:34 -0000 (Wed, 20 Nov 2024)
EllapsedTime: 118.2 seconds
RetCode: 0
Status: OK
PackageFile: MetaboSignal_1.36.0.tar.gz
PackageFileSize: 2.137 <A href="http://en.wikipedia.org/wiki/MiB" target="_blank">MiB</A>