Package: MetaboSignal Version: 1.36.0 Command: /home/biocbuild/bbs-3.20-bioc/R/bin/R CMD INSTALL MetaboSignal StartedAt: 2025-02-03 15:53:05 -0500 (Mon, 03 Feb 2025) EndedAt: 2025-02-03 15:54:06 -0500 (Mon, 03 Feb 2025) EllapsedTime: 60.9 seconds RetCode: 0 Status: OK