Package: MetaboSignal
Version: 1.36.0
Command: /home/biocbuild/bbs-3.20-bioc/R/bin/R CMD build --keep-empty-dirs --no-resave-data MetaboSignal
StartedAt: 2024-11-19 19:56:29 -0500 (Tue, 19 Nov 2024)
EndedAt: 2024-11-19 19:58:04 -0500 (Tue, 19 Nov 2024)
EllapsedTime: 94.8 seconds
RetCode: 0
Status: OK
PackageFile: MetaboSignal_1.36.0.tar.gz
PackageFileSize: 2.089 <A href="http://en.wikipedia.org/wiki/MiB" target="_blank">MiB</A>