Package: MethPed Version: 1.34.0 Command: /Library/Frameworks/R.framework/Resources/bin/R CMD build --keep-empty-dirs --no-resave-data MethPed StartedAt: 2025-02-04 02:57:59 -0500 (Tue, 04 Feb 2025) EndedAt: 2025-02-04 03:00:22 -0500 (Tue, 04 Feb 2025) EllapsedTime: 143.2 seconds RetCode: 0 Status: OK PackageFile: MethPed_1.34.0.tar.gz PackageFileSize: 9.29 MiB