Package: MethPed Version: 1.34.0 Command: /home/biocbuild/R/R/bin/R CMD INSTALL MethPed StartedAt: 2024-11-19 21:09:57 -0000 (Tue, 19 Nov 2024) EndedAt: 2024-11-19 21:10:06 -0000 (Tue, 19 Nov 2024) EllapsedTime: 9.0 seconds RetCode: 0 Status: OK