Package: MethPed Version: 1.34.0 Command: rm -rf MethPed.buildbin-libdir && mkdir MethPed.buildbin-libdir && /Users/biocbuild/BBS/utils/build-universal.sh MethPed_1.34.0.tar.gz /Library/Frameworks/R.framework/Resources/bin/R MethPed.buildbin-libdir StartedAt: 2025-02-04 13:23:25 -0500 (Tue, 04 Feb 2025) EndedAt: 2025-02-04 13:23:44 -0500 (Tue, 04 Feb 2025) EllapsedTime: 19.7 seconds RetCode: 0 Status: OK PackageFile: MethPed_1.34.0.tgz PackageFileSize: 9.314 MiB