Package: MethPed Version: 1.34.0 Command: /Library/Frameworks/R.framework/Resources/bin/R CMD build --keep-empty-dirs --no-resave-data MethPed StartedAt: 2025-02-03 20:10:59 -0500 (Mon, 03 Feb 2025) EndedAt: 2025-02-03 20:13:43 -0500 (Mon, 03 Feb 2025) EllapsedTime: 163.4 seconds RetCode: 0 Status: OK PackageFile: MethPed_1.34.0.tar.gz PackageFileSize: 9.29 MiB