Package: MethPed Version: 1.34.0 Command: /Library/Frameworks/R.framework/Resources/bin/R CMD INSTALL MethPed StartedAt: 2025-02-03 16:15:01 -0500 (Mon, 03 Feb 2025) EndedAt: 2025-02-03 16:15:13 -0500 (Mon, 03 Feb 2025) EllapsedTime: 12.1 seconds RetCode: 0 Status: OK