Package: MethPed Version: 1.34.0 Command: /home/biocbuild/bbs-3.20-bioc/R/bin/R CMD check --install=check:MethPed.install-out.txt --library=/home/biocbuild/bbs-3.20-bioc/R/site-library --timings MethPed_1.34.0.tar.gz StartedAt: 2025-02-03 23:57:27 -0500 (Mon, 03 Feb 2025) EndedAt: 2025-02-04 00:02:00 -0500 (Tue, 04 Feb 2025) EllapsedTime: 272.2 seconds RetCode: 0 Status: OK CheckDir: MethPed.Rcheck Warnings: 0