Package: MethPed Version: 1.34.0 Command: rm -rf MethPed.buildbin-libdir && mkdir MethPed.buildbin-libdir && F:\biocbuild\bbs-3.20-bioc\R\bin\R.exe CMD INSTALL --build --library=MethPed.buildbin-libdir MethPed_1.34.0.tar.gz StartedAt: 2025-02-04 08:53:36 -0500 (Tue, 04 Feb 2025) EndedAt: 2025-02-04 08:53:51 -0500 (Tue, 04 Feb 2025) EllapsedTime: 14.6 seconds RetCode: 0 Status: OK PackageFile: MethPed_1.34.0.zip PackageFileSize: 9.221 MiB