Package: MethPed Version: 1.34.0 Command: /home/biocbuild/R/R/bin/R CMD INSTALL MethPed StartedAt: 2025-02-03 21:03:30 -0000 (Mon, 03 Feb 2025) EndedAt: 2025-02-03 21:03:37 -0000 (Mon, 03 Feb 2025) EllapsedTime: 7.6 seconds RetCode: 0 Status: OK