Package: MethReg Version: 1.16.0 Command: /Library/Frameworks/R.framework/Resources/bin/R CMD INSTALL MethReg StartedAt: 2025-02-03 18:06:17 -0500 (Mon, 03 Feb 2025) EndedAt: 2025-02-03 18:07:22 -0500 (Mon, 03 Feb 2025) EllapsedTime: 65.1 seconds RetCode: 0 Status: OK