Package: MethReg Version: 1.16.0 Command: /Library/Frameworks/R.framework/Resources/bin/R CMD build --keep-empty-dirs --no-resave-data MethReg StartedAt: 2025-02-03 20:11:17 -0500 (Mon, 03 Feb 2025) EndedAt: 2025-02-03 20:14:02 -0500 (Mon, 03 Feb 2025) EllapsedTime: 165.2 seconds RetCode: 1 Status: ERROR PackageFile: None PackageFileSize: NA