Package: MethReg Version: 1.16.0 Command: /home/biocbuild/bbs-3.20-bioc/R/bin/R CMD build --keep-empty-dirs --no-resave-data --md5 MethReg StartedAt: 2025-02-03 18:08:43 -0500 (Mon, 03 Feb 2025) EndedAt: 2025-02-03 18:17:54 -0500 (Mon, 03 Feb 2025) EllapsedTime: 550.5 seconds RetCode: 0 Status: OK PackageFile: MethReg_1.16.0.tar.gz PackageFileSize: 5.2 MiB