Package: MethReg Version: 1.16.0 Command: /home/biocbuild/bbs-3.20-bioc/R/bin/R CMD check --install=check:MethReg.install-out.txt --library=/home/biocbuild/bbs-3.20-bioc/R/site-library --timings MethReg_1.16.0.tar.gz StartedAt: 2025-02-03 23:57:44 -0500 (Mon, 03 Feb 2025) EndedAt: 2025-02-04 00:14:04 -0500 (Tue, 04 Feb 2025) EllapsedTime: 979.9 seconds RetCode: 0 Status: OK CheckDir: MethReg.Rcheck Warnings: 0