Package: MethReg Version: 1.15.0 Command: F:\biocbuild\bbs-3.20-bioc\R\bin\R.exe CMD INSTALL MethReg StartedAt: 2024-06-09 16:52:59 -0400 (Sun, 09 Jun 2024) EndedAt: 2024-06-09 16:54:14 -0400 (Sun, 09 Jun 2024) EllapsedTime: 75.3 seconds RetCode: 0 Status: OK