Package: MethReg Version: 1.16.0 Command: rm -rf MethReg.buildbin-libdir && mkdir MethReg.buildbin-libdir && F:\biocbuild\bbs-3.20-bioc\R\bin\R.exe CMD INSTALL --build --library=MethReg.buildbin-libdir MethReg_1.16.0.tar.gz StartedAt: 2025-02-04 08:53:38 -0500 (Tue, 04 Feb 2025) EndedAt: 2025-02-04 08:54:47 -0500 (Tue, 04 Feb 2025) EllapsedTime: 68.9 seconds RetCode: 0 Status: OK PackageFile: MethReg_1.16.0.zip PackageFileSize: 4.14 MiB