Package: MethReg Version: 1.16.0 Command: F:\biocbuild\bbs-3.20-bioc\R\bin\R.exe CMD INSTALL MethReg StartedAt: 2025-02-03 16:52:41 -0500 (Mon, 03 Feb 2025) EndedAt: 2025-02-03 16:54:37 -0500 (Mon, 03 Feb 2025) EllapsedTime: 116.6 seconds RetCode: 0 Status: OK