Package: MethReg Version: 1.16.0 Command: /home/biocbuild/R/R/bin/R CMD build --keep-empty-dirs --no-resave-data MethReg StartedAt: 2025-02-04 00:49:59 -0000 (Tue, 04 Feb 2025) EndedAt: 2025-02-04 01:01:55 -0000 (Tue, 04 Feb 2025) EllapsedTime: 716.3 seconds RetCode: 0 Status: OK PackageFile: MethReg_1.16.0.tar.gz PackageFileSize: 4.322 MiB