Package: MethylMix Version: 2.36.0 Command: /Library/Frameworks/R.framework/Resources/bin/R CMD check --install=check:MethylMix.install-out.txt --library=/Library/Frameworks/R.framework/Resources/library --no-vignettes --timings MethylMix_2.36.0.tar.gz StartedAt: 2025-02-05 01:29:41 -0500 (Wed, 05 Feb 2025) EndedAt: 2025-02-05 01:31:41 -0500 (Wed, 05 Feb 2025) EllapsedTime: 119.7 seconds RetCode: 0 Status: OK CheckDir: MethylMix.Rcheck Warnings: 0