Package: MethylMix Version: 2.36.0 Command: /Library/Frameworks/R.framework/Resources/bin/R CMD INSTALL MethylMix StartedAt: 2025-02-03 17:01:40 -0500 (Mon, 03 Feb 2025) EndedAt: 2025-02-03 17:01:52 -0500 (Mon, 03 Feb 2025) EllapsedTime: 11.5 seconds RetCode: 0 Status: OK