Package: MethylMix
Version: 2.36.0
Command: /Library/Frameworks/R.framework/Resources/bin/R CMD build --keep-empty-dirs --no-resave-data MethylMix
StartedAt: 2025-02-17 20:17:30 -0500 (Mon, 17 Feb 2025)
EndedAt: 2025-02-17 20:18:26 -0500 (Mon, 17 Feb 2025)
EllapsedTime: 55.8 seconds
RetCode: 0
Status: OK
PackageFile: MethylMix_2.36.0.tar.gz
PackageFileSize: 2.576 <A href="http://en.wikipedia.org/wiki/MiB" target="_blank">MiB</A>