Package: MethylMix Version: 2.36.0 Command: /home/biocbuild/R/R/bin/R CMD build --keep-empty-dirs --no-resave-data MethylMix StartedAt: 2025-02-04 00:52:48 -0000 (Tue, 04 Feb 2025) EndedAt: 2025-02-04 00:53:25 -0000 (Tue, 04 Feb 2025) EllapsedTime: 37.0 seconds RetCode: 0 Status: OK PackageFile: MethylMix_2.36.0.tar.gz PackageFileSize: 2.577 MiB