Package: MethylMix Version: 2.36.0 Command: /home/biocbuild/R/R/bin/R CMD INSTALL MethylMix StartedAt: 2025-02-03 21:02:34 -0000 (Mon, 03 Feb 2025) EndedAt: 2025-02-03 21:02:44 -0000 (Mon, 03 Feb 2025) EllapsedTime: 10.3 seconds RetCode: 0 Status: OK