Package: MethylSeekR Version: 1.46.0 Command: /Library/Frameworks/R.framework/Resources/bin/R CMD build --keep-empty-dirs --no-resave-data MethylSeekR StartedAt: 2025-02-04 03:16:28 -0500 (Tue, 04 Feb 2025) EndedAt: 2025-02-04 03:18:41 -0500 (Tue, 04 Feb 2025) EllapsedTime: 132.8 seconds RetCode: 0 Status: OK PackageFile: MethylSeekR_1.46.0.tar.gz PackageFileSize: 1.594 MiB