Package: MethylSeekR Version: 1.46.0 Command: rm -rf MethylSeekR.buildbin-libdir && mkdir MethylSeekR.buildbin-libdir && /Users/biocbuild/BBS/utils/build-universal.sh MethylSeekR_1.46.0.tar.gz /Library/Frameworks/R.framework/Resources/bin/R MethylSeekR.buildbin-libdir StartedAt: 2025-02-04 13:24:04 -0500 (Tue, 04 Feb 2025) EndedAt: 2025-02-04 13:25:35 -0500 (Tue, 04 Feb 2025) EllapsedTime: 91.6 seconds RetCode: 0 Status: OK PackageFile: MethylSeekR_1.46.0.tgz PackageFileSize: 1.656 MiB