Package: MethylSeekR Version: 1.46.0 Command: /home/biocbuild/bbs-3.20-bioc/R/bin/R CMD check --install=check:MethylSeekR.install-out.txt --library=/home/biocbuild/bbs-3.20-bioc/R/site-library --timings MethylSeekR_1.46.0.tar.gz StartedAt: 2025-02-04 00:02:12 -0500 (Tue, 04 Feb 2025) EndedAt: 2025-02-04 00:09:32 -0500 (Tue, 04 Feb 2025) EllapsedTime: 440.4 seconds RetCode: 0 Status: OK CheckDir: MethylSeekR.Rcheck Warnings: 0