Package: MethylSeekR Version: 1.46.0 Command: /home/biocbuild/bbs-3.20-bioc/R/bin/R CMD INSTALL MethylSeekR StartedAt: 2025-02-03 15:31:49 -0500 (Mon, 03 Feb 2025) EndedAt: 2025-02-03 15:32:21 -0500 (Mon, 03 Feb 2025) EllapsedTime: 31.4 seconds RetCode: 0 Status: OK