Package: MethylSeekR Version: 1.46.0 Command: chmod a+r MethylSeekR -R && F:\biocbuild\bbs-3.20-bioc\R\bin\R.exe CMD build --keep-empty-dirs --no-resave-data MethylSeekR StartedAt: 2025-02-03 20:18:21 -0500 (Mon, 03 Feb 2025) EndedAt: 2025-02-03 20:20:23 -0500 (Mon, 03 Feb 2025) EllapsedTime: 122.4 seconds RetCode: 0 Status: OK PackageFile: MethylSeekR_1.46.0.tar.gz PackageFileSize: 1.595 MiB