Package: MethylSeekR Version: 1.46.0 Command: /home/biocbuild/R/R/bin/R CMD build --keep-empty-dirs --no-resave-data MethylSeekR StartedAt: 2025-02-04 00:53:28 -0000 (Tue, 04 Feb 2025) EndedAt: 2025-02-04 00:55:41 -0000 (Tue, 04 Feb 2025) EllapsedTime: 133.0 seconds RetCode: 0 Status: OK PackageFile: MethylSeekR_1.46.0.tar.gz PackageFileSize: 1.59 MiB