Package: MethylSeekR Version: 1.46.0 Command: /home/biocbuild/R/R/bin/R CMD INSTALL MethylSeekR StartedAt: 2025-02-03 20:41:25 -0000 (Mon, 03 Feb 2025) EndedAt: 2025-02-03 20:42:02 -0000 (Mon, 03 Feb 2025) EllapsedTime: 37.3 seconds RetCode: 0 Status: OK