Package: MiChip
Version: 1.60.0
Command: /Library/Frameworks/R.framework/Resources/bin/R CMD build --keep-empty-dirs --no-resave-data MiChip
StartedAt: 2025-02-14 03:22:49 -0500 (Fri, 14 Feb 2025)
EndedAt: 2025-02-14 03:23:03 -0500 (Fri, 14 Feb 2025)
EllapsedTime: 14.1 seconds
RetCode: 0
Status: OK
PackageFile: MiChip_1.60.0.tar.gz
PackageFileSize: 670 <A href="http://en.wikipedia.org/wiki/KiB" target="_blank">KiB</A>