Package: MiChip Version: 1.60.0 Command: /home/biocbuild/R/R/bin/R CMD INSTALL MiChip StartedAt: 2025-02-03 20:22:04 -0000 (Mon, 03 Feb 2025) EndedAt: 2025-02-03 20:22:14 -0000 (Mon, 03 Feb 2025) EllapsedTime: 9.5 seconds RetCode: 0 Status: OK