Package: MiPP Version: 1.78.0 Command: rm -rf MiPP.buildbin-libdir && mkdir MiPP.buildbin-libdir && /Users/biocbuild/BBS/utils/build-universal.sh MiPP_1.78.0.tar.gz /Library/Frameworks/R.framework/Resources/bin/R MiPP.buildbin-libdir StartedAt: 2025-02-01 15:44:54 -0500 (Sat, 01 Feb 2025) EndedAt: 2025-02-01 15:44:59 -0500 (Sat, 01 Feb 2025) EllapsedTime: 5.4 seconds RetCode: 0 Status: OK PackageFile: MiPP_1.78.0.tgz PackageFileSize: 467.6 KiB