Package: MiPP Version: 1.78.0 Command: /Library/Frameworks/R.framework/Resources/bin/R CMD check --install=check:MiPP.install-out.txt --library=/Library/Frameworks/R.framework/Resources/library --no-vignettes --timings MiPP_1.78.0.tar.gz StartedAt: 2025-02-01 01:22:05 -0500 (Sat, 01 Feb 2025) EndedAt: 2025-02-01 01:23:18 -0500 (Sat, 01 Feb 2025) EllapsedTime: 73.0 seconds RetCode: 0 Status: OK CheckDir: MiPP.Rcheck Warnings: 0