Package: MiPP Version: 1.78.0 Command: rm -rf MiPP.buildbin-libdir && mkdir MiPP.buildbin-libdir && /Users/biocbuild/BBS/utils/build-universal.sh MiPP_1.78.0.tar.gz /Library/Frameworks/R.framework/Resources/bin/R MiPP.buildbin-libdir StartedAt: 2025-01-31 13:10:42 -0500 (Fri, 31 Jan 2025) EndedAt: 2025-01-31 13:10:50 -0500 (Fri, 31 Jan 2025) EllapsedTime: 8.5 seconds RetCode: 0 Status: OK PackageFile: MiPP_1.78.0.tgz PackageFileSize: 467.9 KiB