Package: MiPP Version: 1.78.0 Command: /Library/Frameworks/R.framework/Resources/bin/R CMD build --keep-empty-dirs --no-resave-data MiPP StartedAt: 2025-01-30 20:43:25 -0500 (Thu, 30 Jan 2025) EndedAt: 2025-01-30 20:44:00 -0500 (Thu, 30 Jan 2025) EllapsedTime: 34.7 seconds RetCode: 0 Status: OK PackageFile: MiPP_1.78.0.tar.gz PackageFileSize: 409.7 KiB