Package: MiPP Version: 1.78.0 Command: /Library/Frameworks/R.framework/Resources/bin/R CMD check --install=check:MiPP.install-out.txt --library=/Library/Frameworks/R.framework/Resources/library --no-vignettes --timings MiPP_1.78.0.tar.gz StartedAt: 2025-01-31 06:32:23 -0500 (Fri, 31 Jan 2025) EndedAt: 2025-01-31 06:35:27 -0500 (Fri, 31 Jan 2025) EllapsedTime: 184.0 seconds RetCode: 0 Status: OK CheckDir: MiPP.Rcheck Warnings: 0