Package: MiPP Version: 1.78.0 Command: chmod a+r MiPP -R && F:\biocbuild\bbs-3.20-bioc\R\bin\R.exe CMD build --keep-empty-dirs --no-resave-data MiPP StartedAt: 2025-01-30 20:09:22 -0500 (Thu, 30 Jan 2025) EndedAt: 2025-01-30 20:09:45 -0500 (Thu, 30 Jan 2025) EllapsedTime: 23.1 seconds RetCode: 0 Status: OK PackageFile: MiPP_1.78.0.tar.gz PackageFileSize: 318.8 KiB