Package: MiPP Version: 1.78.0 Command: /home/biocbuild/R/R/bin/R CMD check --install=check:MiPP.install-out.txt --library=/home/biocbuild/R/R/site-library --no-vignettes --timings MiPP_1.78.0.tar.gz StartedAt: 2025-01-31 08:07:43 -0000 (Fri, 31 Jan 2025) EndedAt: 2025-01-31 08:09:16 -0000 (Fri, 31 Jan 2025) EllapsedTime: 92.2 seconds RetCode: 0 Status: OK CheckDir: MiPP.Rcheck Warnings: 0