Package: MiRaGE Version: 1.48.0 Command: /Library/Frameworks/R.framework/Resources/bin/R CMD build --keep-empty-dirs --no-resave-data MiRaGE StartedAt: 2025-02-04 03:29:32 -0500 (Tue, 04 Feb 2025) EndedAt: 2025-02-04 03:30:57 -0500 (Tue, 04 Feb 2025) EllapsedTime: 85.5 seconds RetCode: 0 Status: OK PackageFile: MiRaGE_1.48.0.tar.gz PackageFileSize: 1.313 MiB